BEGIN:VCALENDAR
VERSION:2.0
PRODID:https://www.bamberg.info/
X-PUBLISHED-TTL:P1D
BEGIN:VEVENT
UID:69e99ef34a9e4
DTSTART;VALUE=DATE:20260614
SEQUENCE:0
TRANSP:OPAQUE
DTEND;VALUE=DATE:20260614
URL:https://www.bamberg.info/veranstaltungen/konzert_der_ensembles_doloctem
 -645187-12683251/
LOCATION:Erlöserkirche - Bamberg
SUMMARY:Konzert der Ensembles Doloctemble\, OK 50 und Holzköpfe
DESCRIPTION:Benefizkonzert zugunsten der Orgel der Erlöserkirche unter der
  Leitung von Dorothea Lieb
X-MICROSOFT-CDO-ALLDAYEVENT:TRUE
DTSTAMP:20260423T062419Z
END:VEVENT
END:VCALENDAR