BEGIN:VCALENDAR
VERSION:2.0
PRODID:https://www.bamberg.info/
X-PUBLISHED-TTL:P1D
BEGIN:VEVENT
UID:69eaa3e13fb74
DTSTART:20260509T173000Z
SEQUENCE:0
TRANSP:OPAQUE
DTEND:20260509T173000Z
URL:https://www.bamberg.info/veranstaltungen/konzert_the_chambers-742547-12
 645389/
LOCATION:St. Martin - Bamberg
SUMMARY:Konzert THE CHAMBERS
DESCRIPTION:Du musst keine Weltreise unternehmen\, um das Klassikkonzert ei
 nes Weltklasse-Orchesters zu hören
DTSTAMP:20260424T005737Z
END:VEVENT
END:VCALENDAR