BEGIN:VCALENDAR
VERSION:2.0
PRODID:https://www.bamberg.info/
X-PUBLISHED-TTL:P1D
BEGIN:VEVENT
UID:69ed669a213b1
DTSTART:20260502T120000Z
SEQUENCE:0
TRANSP:OPAQUE
DTEND:20260502T140000Z
URL:https://www.bamberg.info/veranstaltungen/kulinarische_stadtfuehrung_hoe
 -669037-12595543/
LOCATION:- Veranstaltung ohne festen Ort - Bamberg
SUMMARY:Kulinarische Stadtführung: Hörnla\, Bier und Zwiebeltreter
DTSTAMP:20260426T031258Z
END:VEVENT
END:VCALENDAR