BEGIN:VCALENDAR
VERSION:2.0
PRODID:https://www.bamberg.info/
X-PUBLISHED-TTL:P1D
BEGIN:VEVENT
UID:69eb27ca70183
DTSTART;VALUE=DATE:20260424
SEQUENCE:0
TRANSP:OPAQUE
DTEND;VALUE=DATE:20260424
URL:https://www.bamberg.info/veranstaltungen/lesung_beachtenswertes_im_gese
 -777751-12668077/
LOCATION:ETA Hoffmann Theater Bamberg - Bamberg
SUMMARY:Lesung: Beachtenswertes im Gesellschaftsbecken  von Marie-Christin 
 Janssen - Dorst-Ehler-Werkstattfestival
DESCRIPTION:Freier Verkauf
X-MICROSOFT-CDO-ALLDAYEVENT:TRUE
DTSTAMP:20260424T102026Z
END:VEVENT
END:VCALENDAR