BEGIN:VCALENDAR
VERSION:2.0
PRODID:https://www.bamberg.info/
X-PUBLISHED-TTL:P1D
BEGIN:VEVENT
UID:69eb895a94b19
DTSTART;VALUE=DATE:20260426
SEQUENCE:0
TRANSP:OPAQUE
DTEND;VALUE=DATE:20260426
URL:https://www.bamberg.info/veranstaltungen/lesung_beachtenswertes_im_gese
 -777765-12668091/
LOCATION:ETA Hoffmann Theater Bamberg - Bamberg
SUMMARY:Lesung: Beachtenswertes im Gesellschaftsbecken  von Marie-Christin 
 Janssen - Dorst-Ehler-Werkstattfestival
DESCRIPTION:Freier Verkauf
X-MICROSOFT-CDO-ALLDAYEVENT:TRUE
DTSTAMP:20260424T171642Z
END:VEVENT
END:VCALENDAR