BEGIN:VCALENDAR
VERSION:2.0
PRODID:https://www.bamberg.info/
X-PUBLISHED-TTL:P1D
BEGIN:VEVENT
UID:69e82edba8efd
DTSTART;VALUE=DATE:20260501
SEQUENCE:0
TRANSP:OPAQUE
DTEND;VALUE=DATE:20260501
URL:https://www.bamberg.info/veranstaltungen/los_pistoleros_gueeros_cumbia-
 743223-12645639/
LOCATION:Live-Club GmbH & Co. KG - Bamberg
SUMMARY:Los Pistoleros Güeros (Cumbia Orkestra)
X-MICROSOFT-CDO-ALLDAYEVENT:TRUE
DTSTAMP:20260422T041347Z
END:VEVENT
END:VCALENDAR