BEGIN:VCALENDAR
VERSION:2.0
PRODID:https://www.bamberg.info/
X-PUBLISHED-TTL:P1D
BEGIN:VEVENT
UID:69eb188ece47d
DTSTART;VALUE=DATE:20260425
SEQUENCE:0
TRANSP:OPAQUE
DTEND;VALUE=DATE:20260425
URL:https://www.bamberg.info/veranstaltungen/maedele_asa_und_mo-dorst-ehler
 -777755-12668081/
LOCATION:ETA Hoffmann Theater Bamberg - Bamberg
SUMMARY:Mädele | Asa und Mo  - Dorst-Ehler-Werkstattfestival
DESCRIPTION:Abo Studio Premiere und freier Verkauf
X-MICROSOFT-CDO-ALLDAYEVENT:TRUE
DTSTAMP:20260424T091526Z
END:VEVENT
END:VCALENDAR