BEGIN:VCALENDAR
VERSION:2.0
PRODID:https://www.bamberg.info/
X-PUBLISHED-TTL:P1D
BEGIN:VEVENT
UID:69ec352f7f2d9
DTSTART;VALUE=DATE:20260426
SEQUENCE:0
TRANSP:OPAQUE
DTEND;VALUE=DATE:20260426
URL:https://www.bamberg.info/veranstaltungen/maedele_asa_und_mo-dorst-ehler
 -777763/
LOCATION:ETA Hoffmann Theater Bamberg - Bamberg
SUMMARY:Mädele | Asa und Mo  - Dorst-Ehler-Werkstattfestival
DESCRIPTION:Abo Studio So und freier Verkauf
X-MICROSOFT-CDO-ALLDAYEVENT:TRUE
DTSTAMP:20260425T052951Z
END:VEVENT
END:VCALENDAR