BEGIN:VCALENDAR
VERSION:2.0
PRODID:https://www.bamberg.info/
X-PUBLISHED-TTL:P1D
BEGIN:VEVENT
UID:69eb186b16d4d
DTSTART;VALUE=DATE:20260429
SEQUENCE:0
TRANSP:OPAQUE
DTEND;VALUE=DATE:20260429
URL:https://www.bamberg.info/veranstaltungen/maedele_asa_und_mo-dorst-ehler
 -777769-12668095/
LOCATION:ETA Hoffmann Theater Bamberg - Bamberg
SUMMARY:Mädele | Asa und Mo  - Dorst-Ehler-Werkstattfestival
DESCRIPTION:Freier Verkauf
X-MICROSOFT-CDO-ALLDAYEVENT:TRUE
DTSTAMP:20260424T091451Z
END:VEVENT
END:VCALENDAR