BEGIN:VCALENDAR
VERSION:2.0
PRODID:https://www.bamberg.info/
X-PUBLISHED-TTL:P1D
BEGIN:VEVENT
UID:69e5085141713
DTSTART;VALUE=DATE:20260530
SEQUENCE:0
TRANSP:OPAQUE
DTEND;VALUE=DATE:20260530
URL:https://www.bamberg.info/veranstaltungen/mai-kerwa-741619/
LOCATION:Brauerei Gasthof Kundmüller - Viereth-Trunstadt
SUMMARY:Mai-Kerwa
DESCRIPTION:29. Mai bis 01. Juni 2026
X-MICROSOFT-CDO-ALLDAYEVENT:TRUE
DTSTAMP:20260419T185233Z
END:VEVENT
END:VCALENDAR