BEGIN:VCALENDAR
VERSION:2.0
PRODID:https://www.bamberg.info/
X-PUBLISHED-TTL:P1D
BEGIN:VEVENT
UID:69e4da430fd85
DTSTART;VALUE=DATE:20260531
SEQUENCE:0
TRANSP:OPAQUE
DTEND;VALUE=DATE:20260531
URL:https://www.bamberg.info/veranstaltungen/mai-kerwa-741621-12643885/
LOCATION:Brauerei Gasthof Kundmüller - Viereth-Trunstadt
SUMMARY:Mai-Kerwa
DESCRIPTION:29. Mai bis 01. Juni 2026
X-MICROSOFT-CDO-ALLDAYEVENT:TRUE
DTSTAMP:20260419T153603Z
END:VEVENT
END:VCALENDAR