BEGIN:VCALENDAR
VERSION:2.0
PRODID:https://www.bamberg.info/
X-PUBLISHED-TTL:P1D
BEGIN:VEVENT
UID:69e4ecfba2a51
DTSTART;VALUE=DATE:20260424
SEQUENCE:0
TRANSP:OPAQUE
DTEND;VALUE=DATE:20260424
URL:https://www.bamberg.info/veranstaltungen/maibock-anstich-741615/
LOCATION:Kundmüller\, Gasthof - Viereth-Trunstadt
SUMMARY:Maibock-Anstich
X-MICROSOFT-CDO-ALLDAYEVENT:TRUE
DTSTAMP:20260419T165555Z
END:VEVENT
END:VCALENDAR