BEGIN:VCALENDAR
VERSION:2.0
PRODID:https://www.bamberg.info/
X-PUBLISHED-TTL:P1D
BEGIN:VEVENT
UID:69e587b3ef10b
DTSTART:20260421T080000Z
SEQUENCE:0
TRANSP:OPAQUE
DTEND:20260421T093000Z
URL:https://www.bamberg.info/veranstaltungen/malerische_gaertnerstadt-39493
 7-12588495/
LOCATION:- Veranstaltung ohne festen Ort - Bamberg
SUMMARY:Malerische Gärtnerstadt
DTSTAMP:20260420T035603Z
END:VEVENT
BEGIN:VEVENT
UID:69e587b3ef15b
DTSTART:20260422T080000Z
SEQUENCE:0
TRANSP:OPAQUE
DTEND:20260422T093000Z
URL:https://www.bamberg.info/veranstaltungen/malerische_gaertnerstadt-39493
 7-12588495/
LOCATION:- Veranstaltung ohne festen Ort - Bamberg
SUMMARY:Malerische Gärtnerstadt
DTSTAMP:20260420T035603Z
END:VEVENT
BEGIN:VEVENT
UID:69e587b3ef16b
DTSTART:20260423T080000Z
SEQUENCE:0
TRANSP:OPAQUE
DTEND:20260423T093000Z
URL:https://www.bamberg.info/veranstaltungen/malerische_gaertnerstadt-39493
 7-12588495/
LOCATION:- Veranstaltung ohne festen Ort - Bamberg
SUMMARY:Malerische Gärtnerstadt
DTSTAMP:20260420T035603Z
END:VEVENT
BEGIN:VEVENT
UID:69e587b3ef179
DTSTART:20260424T080000Z
SEQUENCE:0
TRANSP:OPAQUE
DTEND:20260424T093000Z
URL:https://www.bamberg.info/veranstaltungen/malerische_gaertnerstadt-39493
 7-12588495/
LOCATION:- Veranstaltung ohne festen Ort - Bamberg
SUMMARY:Malerische Gärtnerstadt
DTSTAMP:20260420T035603Z
END:VEVENT
END:VCALENDAR