BEGIN:VCALENDAR
VERSION:2.0
PRODID:https://www.bamberg.info/
X-PUBLISHED-TTL:P1D
BEGIN:VEVENT
UID:69ed3b79a345a
DTSTART;VALUE=DATE:20261129
SEQUENCE:0
TRANSP:OPAQUE
DTEND;VALUE=DATE:20261129
URL:https://www.bamberg.info/veranstaltungen/marilyn_monroe-what_a_beautifu
 -778605-12668279/
LOCATION:Kulturboden in der Marktscheune UG - Hallstadt
SUMMARY:Marilyn Monroe - What A Beautiful Dream
DESCRIPTION:Die Geschichte einer Ikone
X-MICROSOFT-CDO-ALLDAYEVENT:TRUE
DTSTAMP:20260426T000857Z
END:VEVENT
END:VCALENDAR