BEGIN:VCALENDAR
VERSION:2.0
PRODID:https://www.bamberg.info/
X-PUBLISHED-TTL:P1D
BEGIN:VEVENT
UID:69eb9e0c9b520
DTSTART;VALUE=DATE:20260426
SEQUENCE:0
TRANSP:OPAQUE
DTEND;VALUE=DATE:20260426
URL:https://www.bamberg.info/veranstaltungen/meet_the_author_einblicke_in_d
 -777761-12668087/
LOCATION:ETA Hoffmann Theater Bamberg - Bamberg
SUMMARY:Meet the Author Einblicke in den Schreibprozess der eingeladenen Au
 tor innen des Dorst-Ehler-Werstattfestivals
DESCRIPTION:Eintritt frei
X-MICROSOFT-CDO-ALLDAYEVENT:TRUE
DTSTAMP:20260424T184500Z
END:VEVENT
END:VCALENDAR