BEGIN:VCALENDAR
VERSION:2.0
PRODID:https://www.bamberg.info/
X-PUBLISHED-TTL:P1D
BEGIN:VEVENT
UID:69eafb70dae63
DTSTART;VALUE=DATE:20260723
SEQUENCE:0
TRANSP:OPAQUE
DTEND;VALUE=DATE:20260723
URL:https://www.bamberg.info/veranstaltungen/meisterkonzert_i_international
 -809655/
LOCATION:Schloss Weissenstein - Pommersfelden
SUMMARY:Meisterkonzert I\, Internationale Solisten
X-MICROSOFT-CDO-ALLDAYEVENT:TRUE
DTSTAMP:20260424T071112Z
END:VEVENT
END:VCALENDAR