BEGIN:VCALENDAR
VERSION:2.0
PRODID:https://www.bamberg.info/
X-PUBLISHED-TTL:P1D
BEGIN:VEVENT
UID:69eafb60cee6b
DTSTART;VALUE=DATE:20260807
SEQUENCE:0
TRANSP:OPAQUE
DTEND;VALUE=DATE:20260807
URL:https://www.bamberg.info/veranstaltungen/meisterkonzert_ii_internationa
 -809679/
LOCATION:Schloss Weissenstein - Pommersfelden
SUMMARY:Meisterkonzert II – Internationale Solisten
X-MICROSOFT-CDO-ALLDAYEVENT:TRUE
DTSTAMP:20260424T071056Z
END:VEVENT
END:VCALENDAR