BEGIN:VCALENDAR
VERSION:2.0
PRODID:https://www.bamberg.info/
X-PUBLISHED-TTL:P1D
BEGIN:VEVENT
UID:69eb4b9ed2161
DTSTART:20260501T160000Z
SEQUENCE:0
TRANSP:OPAQUE
DTEND:20260501T190000Z
URL:https://www.bamberg.info/veranstaltungen/mit_dem_bambergbus_panorama-ab
 -418183/
LOCATION:- Veranstaltung ohne festen Ort - Bamberg
SUMMARY:Mit dem BambergBus: Panorama-Abendfahrt \"Hopfen & Malz“
DESCRIPTION:Unsere kleine Brauereitour
DTSTAMP:20260424T125318Z
END:VEVENT
END:VCALENDAR