BEGIN:VCALENDAR
VERSION:2.0
PRODID:https://www.bamberg.info/
X-PUBLISHED-TTL:P1D
BEGIN:VEVENT
UID:69ed6636e30ad
DTSTART:20260429T190000Z
SEQUENCE:0
TRANSP:OPAQUE
DTEND:20260429T201500Z
URL:https://www.bamberg.info/veranstaltungen/nachtwaechterrundgang-389385-1
 2596825/
LOCATION:- Veranstaltung ohne festen Ort - Bamberg
SUMMARY:Nachtwächterrundgang
DTSTAMP:20260426T031118Z
END:VEVENT
BEGIN:VEVENT
UID:69ed6636e30e0
DTSTART:20260430T190000Z
SEQUENCE:0
TRANSP:OPAQUE
DTEND:20260430T201500Z
URL:https://www.bamberg.info/veranstaltungen/nachtwaechterrundgang-389385-1
 2596825/
LOCATION:- Veranstaltung ohne festen Ort - Bamberg
SUMMARY:Nachtwächterrundgang
DTSTAMP:20260426T031118Z
END:VEVENT
BEGIN:VEVENT
UID:69ed6636e30ea
DTSTART:20260501T190000Z
SEQUENCE:0
TRANSP:OPAQUE
DTEND:20260501T201500Z
URL:https://www.bamberg.info/veranstaltungen/nachtwaechterrundgang-389385-1
 2596825/
LOCATION:- Veranstaltung ohne festen Ort - Bamberg
SUMMARY:Nachtwächterrundgang
DTSTAMP:20260426T031118Z
END:VEVENT
END:VCALENDAR