BEGIN:VCALENDAR
VERSION:2.0
PRODID:https://www.bamberg.info/
X-PUBLISHED-TTL:P1D
BEGIN:VEVENT
UID:69eb8fd24ab03
DTSTART;VALUE=DATE:20260425
SEQUENCE:0
TRANSP:OPAQUE
DTEND;VALUE=DATE:20260425
URL:https://www.bamberg.info/veranstaltungen/neue_dramatik_was_erzaehlt_die
 -777753-12668079/
LOCATION:ETA Hoffmann Theater Bamberg - Bamberg
SUMMARY:Neue Dramatik: Was erzählt die Gegenwart? Diskussionsrunde mit Joh
 n von Düffel\, Jana Vetten und Hannah Zufall
X-MICROSOFT-CDO-ALLDAYEVENT:TRUE
DTSTAMP:20260424T174418Z
END:VEVENT
END:VCALENDAR