BEGIN:VCALENDAR
VERSION:2.0
PRODID:https://www.bamberg.info/
X-PUBLISHED-TTL:P1D
BEGIN:VEVENT
UID:69e4c41d0969b
DTSTART;VALUE=DATE:20261017
SEQUENCE:0
TRANSP:OPAQUE
DTEND;VALUE=DATE:20261017
URL:https://www.bamberg.info/veranstaltungen/oeffentliche_fuehrung_domschat
 -740863/
LOCATION:Diözesanmuseum des Erzbistums Bamberg - Bamberg
SUMMARY:Öffentliche Führung  Dom.Schatz.Kreuzgang
DESCRIPTION:Kombiführung Dom & Diözesanmuseum
X-MICROSOFT-CDO-ALLDAYEVENT:TRUE
DTSTAMP:20260419T140133Z
END:VEVENT
END:VCALENDAR