BEGIN:VCALENDAR
VERSION:2.0
PRODID:https://www.bamberg.info/
X-PUBLISHED-TTL:P1D
BEGIN:VEVENT
UID:69e4daae64acb
DTSTART;VALUE=DATE:20260807
SEQUENCE:0
TRANSP:OPAQUE
DTEND;VALUE=DATE:20260807
URL:https://www.bamberg.info/veranstaltungen/offene_brauereifuehrung_in_wei
 -659827-12583943/
LOCATION:Kundmüller\, Gasthof - Viereth-Trunstadt
SUMMARY:Offene Brauereiführung in Weiher
DESCRIPTION:An jedem 1. Freitag im Monat von März bis Dezember
X-MICROSOFT-CDO-ALLDAYEVENT:TRUE
DTSTAMP:20260419T153750Z
END:VEVENT
END:VCALENDAR