BEGIN:VCALENDAR
VERSION:2.0
PRODID:https://www.bamberg.info/
X-PUBLISHED-TTL:P1D
BEGIN:VEVENT
UID:69e640c7dbdb8
DTSTART;VALUE=DATE:20260508
SEQUENCE:0
TRANSP:OPAQUE
DTEND;VALUE=DATE:20260508
URL:https://www.bamberg.info/veranstaltungen/offene_brauereifuehrung_in_wei
 -661403/
LOCATION:Kundmüller\, Gasthof - Viereth-Trunstadt
SUMMARY:Offene Brauereiführung in Weiher
DESCRIPTION:An jedem 1. Freitag im Monat von März bis Dezember
X-MICROSOFT-CDO-ALLDAYEVENT:TRUE
DTSTAMP:20260420T170543Z
END:VEVENT
END:VCALENDAR