BEGIN:VCALENDAR
VERSION:2.0
PRODID:https://www.bamberg.info/
X-PUBLISHED-TTL:P1D
BEGIN:VEVENT
UID:69eafb66c53cf
DTSTART;VALUE=DATE:20260801
SEQUENCE:0
TRANSP:OPAQUE
DTEND;VALUE=DATE:20260801
URL:https://www.bamberg.info/veranstaltungen/open_air_im_schlosshof_mit_bar
 -809671/
LOCATION:Schloss Weissenstein - Pommersfelden
SUMMARY:Open Air im Schlosshof mit Barock-Feuerwerk
X-MICROSOFT-CDO-ALLDAYEVENT:TRUE
DTSTAMP:20260424T071102Z
END:VEVENT
END:VCALENDAR