BEGIN:VCALENDAR
VERSION:2.0
PRODID:https://www.bamberg.info/
X-PUBLISHED-TTL:P1D
BEGIN:VEVENT
UID:69e5bd245ebee
DTSTART;VALUE=DATE:20260517
SEQUENCE:0
TRANSP:OPAQUE
DTEND;VALUE=DATE:20260517
URL:https://www.bamberg.info/veranstaltungen/openair_kino_im_kreuzgarten-80
 6495/
LOCATION:Kloster St. Michael - Bamberg
SUMMARY:Openair Kino im Kreuzgarten
X-MICROSOFT-CDO-ALLDAYEVENT:TRUE
DTSTAMP:20260420T074404Z
END:VEVENT
END:VCALENDAR