BEGIN:VCALENDAR
VERSION:2.0
PRODID:https://www.bamberg.info/
X-PUBLISHED-TTL:P1D
BEGIN:VEVENT
UID:69e4ed51105dd
DTSTART;VALUE=DATE:20261210
SEQUENCE:0
TRANSP:OPAQUE
DTEND;VALUE=DATE:20261210
URL:https://www.bamberg.info/veranstaltungen/rauchbockanstich_in_weiher-741
 629/
LOCATION:Brauerei Gasthof Kundmüller - Viereth-Trunstadt
SUMMARY:Rauchbockanstich in Weiher
X-MICROSOFT-CDO-ALLDAYEVENT:TRUE
DTSTAMP:20260419T165721Z
END:VEVENT
END:VCALENDAR