BEGIN:VCALENDAR
VERSION:2.0
PRODID:https://www.bamberg.info/
X-PUBLISHED-TTL:P1D
BEGIN:VEVENT
UID:69e6c2434b662
DTSTART:20261119T100000Z
SEQUENCE:0
TRANSP:OPAQUE
DTEND:20261119T120000Z
URL:https://www.bamberg.info/veranstaltungen/schauspielfuehrung_der_bamberg
 -496323/
LOCATION:- Veranstaltung ohne festen Ort - Bamberg
SUMMARY:Schauspielführung der Bamberger Gassenspiele: \"Die Herbergssuche 
 zu Bamberg\"
DTSTAMP:20260421T021811Z
END:VEVENT
BEGIN:VEVENT
UID:69e6c2434b69c
DTSTART:20261120T100000Z
SEQUENCE:0
TRANSP:OPAQUE
DTEND:20261120T120000Z
URL:https://www.bamberg.info/veranstaltungen/schauspielfuehrung_der_bamberg
 -496323/
LOCATION:- Veranstaltung ohne festen Ort - Bamberg
SUMMARY:Schauspielführung der Bamberger Gassenspiele: \"Die Herbergssuche 
 zu Bamberg\"
DTSTAMP:20260421T021811Z
END:VEVENT
BEGIN:VEVENT
UID:69e6c2434b6bd
DTSTART:20261126T100000Z
SEQUENCE:0
TRANSP:OPAQUE
DTEND:20261126T120000Z
URL:https://www.bamberg.info/veranstaltungen/schauspielfuehrung_der_bamberg
 -496323/
LOCATION:- Veranstaltung ohne festen Ort - Bamberg
SUMMARY:Schauspielführung der Bamberger Gassenspiele: \"Die Herbergssuche 
 zu Bamberg\"
DTSTAMP:20260421T021811Z
END:VEVENT
BEGIN:VEVENT
UID:69e6c2434b6c7
DTSTART:20261127T100000Z
SEQUENCE:0
TRANSP:OPAQUE
DTEND:20261127T120000Z
URL:https://www.bamberg.info/veranstaltungen/schauspielfuehrung_der_bamberg
 -496323/
LOCATION:- Veranstaltung ohne festen Ort - Bamberg
SUMMARY:Schauspielführung der Bamberger Gassenspiele: \"Die Herbergssuche 
 zu Bamberg\"
DTSTAMP:20260421T021811Z
END:VEVENT
BEGIN:VEVENT
UID:69e6c2434b6dc
DTSTART:20261203T100000Z
SEQUENCE:0
TRANSP:OPAQUE
DTEND:20261203T120000Z
URL:https://www.bamberg.info/veranstaltungen/schauspielfuehrung_der_bamberg
 -496323/
LOCATION:- Veranstaltung ohne festen Ort - Bamberg
SUMMARY:Schauspielführung der Bamberger Gassenspiele: \"Die Herbergssuche 
 zu Bamberg\"
DTSTAMP:20260421T021811Z
END:VEVENT
BEGIN:VEVENT
UID:69e6c2434b6e5
DTSTART:20261204T100000Z
SEQUENCE:0
TRANSP:OPAQUE
DTEND:20261204T120000Z
URL:https://www.bamberg.info/veranstaltungen/schauspielfuehrung_der_bamberg
 -496323/
LOCATION:- Veranstaltung ohne festen Ort - Bamberg
SUMMARY:Schauspielführung der Bamberger Gassenspiele: \"Die Herbergssuche 
 zu Bamberg\"
DTSTAMP:20260421T021811Z
END:VEVENT
BEGIN:VEVENT
UID:69e6c2434b6fa
DTSTART:20261210T100000Z
SEQUENCE:0
TRANSP:OPAQUE
DTEND:20261210T120000Z
URL:https://www.bamberg.info/veranstaltungen/schauspielfuehrung_der_bamberg
 -496323/
LOCATION:- Veranstaltung ohne festen Ort - Bamberg
SUMMARY:Schauspielführung der Bamberger Gassenspiele: \"Die Herbergssuche 
 zu Bamberg\"
DTSTAMP:20260421T021811Z
END:VEVENT
BEGIN:VEVENT
UID:69e6c2434b703
DTSTART:20261211T100000Z
SEQUENCE:0
TRANSP:OPAQUE
DTEND:20261211T120000Z
URL:https://www.bamberg.info/veranstaltungen/schauspielfuehrung_der_bamberg
 -496323/
LOCATION:- Veranstaltung ohne festen Ort - Bamberg
SUMMARY:Schauspielführung der Bamberger Gassenspiele: \"Die Herbergssuche 
 zu Bamberg\"
DTSTAMP:20260421T021811Z
END:VEVENT
BEGIN:VEVENT
UID:69e6c2434b717
DTSTART:20261217T100000Z
SEQUENCE:0
TRANSP:OPAQUE
DTEND:20261217T120000Z
URL:https://www.bamberg.info/veranstaltungen/schauspielfuehrung_der_bamberg
 -496323/
LOCATION:- Veranstaltung ohne festen Ort - Bamberg
SUMMARY:Schauspielführung der Bamberger Gassenspiele: \"Die Herbergssuche 
 zu Bamberg\"
DTSTAMP:20260421T021811Z
END:VEVENT
BEGIN:VEVENT
UID:69e6c2434b720
DTSTART:20261218T100000Z
SEQUENCE:0
TRANSP:OPAQUE
DTEND:20261218T120000Z
URL:https://www.bamberg.info/veranstaltungen/schauspielfuehrung_der_bamberg
 -496323/
LOCATION:- Veranstaltung ohne festen Ort - Bamberg
SUMMARY:Schauspielführung der Bamberger Gassenspiele: \"Die Herbergssuche 
 zu Bamberg\"
DTSTAMP:20260421T021811Z
END:VEVENT
BEGIN:VEVENT
UID:69e6c2434b735
DTSTART:20261224T100000Z
SEQUENCE:0
TRANSP:OPAQUE
DTEND:20261224T120000Z
URL:https://www.bamberg.info/veranstaltungen/schauspielfuehrung_der_bamberg
 -496323/
LOCATION:- Veranstaltung ohne festen Ort - Bamberg
SUMMARY:Schauspielführung der Bamberger Gassenspiele: \"Die Herbergssuche 
 zu Bamberg\"
DTSTAMP:20260421T021811Z
END:VEVENT
BEGIN:VEVENT
UID:69e6c2434b756
DTSTART:20261231T100000Z
SEQUENCE:0
TRANSP:OPAQUE
DTEND:20261231T120000Z
URL:https://www.bamberg.info/veranstaltungen/schauspielfuehrung_der_bamberg
 -496323/
LOCATION:- Veranstaltung ohne festen Ort - Bamberg
SUMMARY:Schauspielführung der Bamberger Gassenspiele: \"Die Herbergssuche 
 zu Bamberg\"
DTSTAMP:20260421T021811Z
END:VEVENT
END:VCALENDAR