BEGIN:VCALENDAR
VERSION:2.0
PRODID:https://www.bamberg.info/
X-PUBLISHED-TTL:P1D
BEGIN:VEVENT
UID:69ed4c9cd6d73
DTSTART;VALUE=DATE:20260427
SEQUENCE:0
TRANSP:OPAQUE
DTEND;VALUE=DATE:20260427
URL:https://www.bamberg.info/veranstaltungen/schwof_mit_halben_getraenkepre
 -778601-12668275/
LOCATION:Live-Club GmbH & Co. KG - Bamberg
SUMMARY:Schwof mit halben Getränkepreisen - DJ Finnlyner
X-MICROSOFT-CDO-ALLDAYEVENT:TRUE
DTSTAMP:20260426T012204Z
END:VEVENT
END:VCALENDAR