BEGIN:VCALENDAR
VERSION:2.0
PRODID:https://www.bamberg.info/
X-PUBLISHED-TTL:P1D
BEGIN:VEVENT
UID:69e5643ecc54c
DTSTART;VALUE=DATE:20260628
SEQUENCE:0
TRANSP:OPAQUE
DTEND;VALUE=DATE:20260628
URL:https://www.bamberg.info/veranstaltungen/sommerkonzert_der_kreismusiksc
 -632875-12571507/
LOCATION:Ellertalhalle - Litzendorf
SUMMARY:Sommerkonzert der Kreismusikschule
DESCRIPTION:Großes Sommerkonzert zum Schuljahresende mit vielen Solisten\,
  Ensembles und Orchestern
X-MICROSOFT-CDO-ALLDAYEVENT:TRUE
DTSTAMP:20260420T012446Z
END:VEVENT
END:VCALENDAR