BEGIN:VCALENDAR
VERSION:2.0
PRODID:https://www.bamberg.info/
X-PUBLISHED-TTL:P1D
BEGIN:VEVENT
UID:69e530d663f51
DTSTART;VALUE=DATE:20261003
SEQUENCE:0
TRANSP:OPAQUE
DTEND;VALUE=DATE:20261003
URL:https://www.bamberg.info/veranstaltungen/st_michael_zum_namensfest-7005
 43-12617239/
LOCATION:St. Michael - Bamberg
SUMMARY:St. Michael  zum Namensfest
X-MICROSOFT-CDO-ALLDAYEVENT:TRUE
DTSTAMP:20260419T214526Z
END:VEVENT
END:VCALENDAR