BEGIN:VCALENDAR
VERSION:2.0
PRODID:https://www.bamberg.info/
X-PUBLISHED-TTL:P1D
BEGIN:VEVENT
UID:69e97904b74c1
DTSTART:20260424T130000Z
SEQUENCE:0
TRANSP:OPAQUE
DTEND:20260424T143000Z
URL:https://www.bamberg.info/veranstaltungen/stadtspaziergang_bamberg_um_19
 -622071-12601845/
LOCATION:- Veranstaltung ohne festen Ort - Bamberg
SUMMARY:Stadtspaziergang „Bamberg um 1900“
DTSTAMP:20260423T034228Z
END:VEVENT
END:VCALENDAR