BEGIN:VCALENDAR
VERSION:2.0
PRODID:https://www.bamberg.info/
X-PUBLISHED-TTL:P1D
BEGIN:VEVENT
UID:69ec354b8ae8f
DTSTART:20260429T130000Z
SEQUENCE:0
TRANSP:OPAQUE
DTEND:20260429T143000Z
URL:https://www.bamberg.info/veranstaltungen/stadtspaziergang_bamberg_um_19
 -622071-12601847/
LOCATION:- Veranstaltung ohne festen Ort - Bamberg
SUMMARY:Stadtspaziergang „Bamberg um 1900“
DTSTAMP:20260425T053019Z
END:VEVENT
END:VCALENDAR