BEGIN:VCALENDAR
VERSION:2.0
PRODID:https://www.bamberg.info/
X-PUBLISHED-TTL:P1D
BEGIN:VEVENT
UID:69e54a9822acf
DTSTART;VALUE=DATE:20260424
SEQUENCE:0
TRANSP:OPAQUE
DTEND;VALUE=DATE:20260424
URL:https://www.bamberg.info/veranstaltungen/symphoniekonzert_bamberger_sym
 -774247/
LOCATION:Konzert- und Kongresshalle - Bamberg
SUMMARY:Symphoniekonzert Bamberger Symphoniker
DESCRIPTION:Juraj Valčuha\, Frank Peter Zimmermann
X-MICROSOFT-CDO-ALLDAYEVENT:TRUE
DTSTAMP:20260419T233520Z
END:VEVENT
END:VCALENDAR