BEGIN:VCALENDAR
VERSION:2.0
PRODID:https://www.bamberg.info/
X-PUBLISHED-TTL:P1D
BEGIN:VEVENT
UID:69eae8633e21c
DTSTART;VALUE=DATE:20260725
SEQUENCE:0
TRANSP:OPAQUE
DTEND;VALUE=DATE:20260725
URL:https://www.bamberg.info/veranstaltungen/symphoniekonzert_collegium_mus
 -809657-12683529/
LOCATION:Schloss Weissenstein - Pommersfelden
SUMMARY:Symphoniekonzert Collegium Musicum
X-MICROSOFT-CDO-ALLDAYEVENT:TRUE
DTSTAMP:20260424T054955Z
END:VEVENT
END:VCALENDAR