BEGIN:VCALENDAR
VERSION:2.0
PRODID:https://www.bamberg.info/
X-PUBLISHED-TTL:P1D
BEGIN:VEVENT
UID:69eae9f7b8c3f
DTSTART;VALUE=DATE:20260726
SEQUENCE:0
TRANSP:OPAQUE
DTEND;VALUE=DATE:20260726
URL:https://www.bamberg.info/veranstaltungen/symphoniekonzert_collegium_mus
 -809659-12683531/
LOCATION:Schloss Weissenstein - Pommersfelden
SUMMARY:Symphoniekonzert Collegium Musicum
X-MICROSOFT-CDO-ALLDAYEVENT:TRUE
DTSTAMP:20260424T055639Z
END:VEVENT
END:VCALENDAR