BEGIN:VCALENDAR
VERSION:2.0
PRODID:https://www.bamberg.info/
X-PUBLISHED-TTL:P1D
BEGIN:VEVENT
UID:69eafb7039289
DTSTART;VALUE=DATE:20260808
SEQUENCE:0
TRANSP:OPAQUE
DTEND;VALUE=DATE:20260808
URL:https://www.bamberg.info/veranstaltungen/symphoniekonzert_collegium_mus
 -809681/
LOCATION:Schloss Weissenstein - Pommersfelden
SUMMARY:Symphoniekonzert Collegium Musicum
X-MICROSOFT-CDO-ALLDAYEVENT:TRUE
DTSTAMP:20260424T071112Z
END:VEVENT
END:VCALENDAR