BEGIN:VCALENDAR
VERSION:2.0
PRODID:https://www.bamberg.info/
X-PUBLISHED-TTL:P1D
BEGIN:VEVENT
UID:69eae9fe78174
DTSTART;VALUE=DATE:20260809
SEQUENCE:0
TRANSP:OPAQUE
DTEND;VALUE=DATE:20260809
URL:https://www.bamberg.info/veranstaltungen/symphoniekonzert_collegium_mus
 -809683-12683555/
LOCATION:Schloss Weissenstein - Pommersfelden
SUMMARY:Symphoniekonzert Collegium Musicum
X-MICROSOFT-CDO-ALLDAYEVENT:TRUE
DTSTAMP:20260424T055646Z
END:VEVENT
END:VCALENDAR