BEGIN:VCALENDAR
VERSION:2.0
PRODID:https://www.bamberg.info/
X-PUBLISHED-TTL:P1D
BEGIN:VEVENT
UID:69eafd5df3cb8
DTSTART;VALUE=DATE:20260816
SEQUENCE:0
TRANSP:OPAQUE
DTEND;VALUE=DATE:20260816
URL:https://www.bamberg.info/veranstaltungen/symphoniekonzert_collegium_mus
 -809695/
LOCATION:Schloss Weissenstein - Pommersfelden
SUMMARY:Symphoniekonzert Collegium Musicum
X-MICROSOFT-CDO-ALLDAYEVENT:TRUE
DTSTAMP:20260424T071926Z
END:VEVENT
END:VCALENDAR