BEGIN:VCALENDAR
VERSION:2.0
PRODID:https://www.bamberg.info/
X-PUBLISHED-TTL:P1D
BEGIN:VEVENT
UID:69e587b774afd
DTSTART;VALUE=DATE:20260520
SEQUENCE:0
TRANSP:OPAQUE
DTEND;VALUE=DATE:20260520
URL:https://www.bamberg.info/veranstaltungen/tastenzauberei-632873-12571505
 /
LOCATION:Bauernmuseum Bamberger Land - Frensdorf
SUMMARY:Tastenzauberei
DESCRIPTION:Konzert des Fachbereiches Tasteninstrumente
X-MICROSOFT-CDO-ALLDAYEVENT:TRUE
DTSTAMP:20260420T035607Z
END:VEVENT
END:VCALENDAR