BEGIN:VCALENDAR
VERSION:2.0
PRODID:https://www.bamberg.info/
X-PUBLISHED-TTL:P1D
BEGIN:VEVENT
UID:69e9bdfac9ae8
DTSTART;VALUE=DATE:20260710
SEQUENCE:0
TRANSP:OPAQUE
DTEND;VALUE=DATE:20260710
URL:https://www.bamberg.info/veranstaltungen/the_legend_of_georgia_mcbride-
 808903/
LOCATION:ETA Hoffmann Theater Bamberg - Bamberg
SUMMARY:The Legend of Georgia McBride\, Matthew Lopez
DESCRIPTION:Freier Verkauf
X-MICROSOFT-CDO-ALLDAYEVENT:TRUE
DTSTAMP:20260423T083642Z
END:VEVENT
END:VCALENDAR