BEGIN:VCALENDAR
VERSION:2.0
PRODID:https://www.bamberg.info/
X-PUBLISHED-TTL:P1D
BEGIN:VEVENT
UID:69e99ef34a557
DTSTART;VALUE=DATE:20260711
SEQUENCE:0
TRANSP:OPAQUE
DTEND;VALUE=DATE:20260711
URL:https://www.bamberg.info/veranstaltungen/the_legend_of_georgia_mcbride-
 808905-12683255/
LOCATION:ETA Hoffmann Theater Bamberg - Bamberg
SUMMARY:The Legend of Georgia McBride\, Matthew Lopez - zum allerletzten Ma
 l
DESCRIPTION:Freier Verkauf
X-MICROSOFT-CDO-ALLDAYEVENT:TRUE
DTSTAMP:20260423T062419Z
END:VEVENT
END:VCALENDAR