BEGIN:VCALENDAR
VERSION:2.0
PRODID:https://www.bamberg.info/
X-PUBLISHED-TTL:P1D
BEGIN:VEVENT
UID:69ea9eb9579ce
DTSTART;VALUE=DATE:20260715
SEQUENCE:0
TRANSP:OPAQUE
DTEND;VALUE=DATE:20260715
URL:https://www.bamberg.info/veranstaltungen/the_purple_rose_of_cairo_von_w
 -776999-12667957/
LOCATION:Lichtspiel & Odeon - Bamberg
SUMMARY:The Purple Rose of Cairo von Woody Allen
DESCRIPTION:Theater im Gärtnerviertel
X-MICROSOFT-CDO-ALLDAYEVENT:TRUE
DTSTAMP:20260424T003537Z
END:VEVENT
END:VCALENDAR