BEGIN:VCALENDAR
VERSION:2.0
PRODID:https://www.bamberg.info/
X-PUBLISHED-TTL:P1D
BEGIN:VEVENT
UID:69e9fb8b8cf3b
DTSTART;VALUE=DATE:20260722
SEQUENCE:0
TRANSP:OPAQUE
DTEND;VALUE=DATE:20260722
URL:https://www.bamberg.info/veranstaltungen/the_purple_rose_of_cairo_von_w
 -777007-12667965/
LOCATION:Lichtspiel & Odeon - Bamberg
SUMMARY:The Purple Rose of Cairo von Woody Allen
DESCRIPTION:Theater im Gärtnerviertel
X-MICROSOFT-CDO-ALLDAYEVENT:TRUE
DTSTAMP:20260423T125923Z
END:VEVENT
END:VCALENDAR