BEGIN:VCALENDAR
VERSION:2.0
PRODID:https://www.bamberg.info/
X-PUBLISHED-TTL:P1D
BEGIN:VEVENT
UID:69ea8b0205d00
DTSTART;VALUE=DATE:20260725
SEQUENCE:0
TRANSP:OPAQUE
DTEND;VALUE=DATE:20260725
URL:https://www.bamberg.info/veranstaltungen/the_purple_rose_of_cairo_von_w
 -777013-12667971/
LOCATION:Lichtspiel & Odeon - Bamberg
SUMMARY:The Purple Rose of Cairo von Woody Allen
DESCRIPTION:Theater im Gärtnerviertel
X-MICROSOFT-CDO-ALLDAYEVENT:TRUE
DTSTAMP:20260423T231130Z
END:VEVENT
END:VCALENDAR