BEGIN:VCALENDAR
VERSION:2.0
PRODID:https://www.bamberg.info/
X-PUBLISHED-TTL:P1D
BEGIN:VEVENT
UID:69ed66edab8b4
DTSTART:20260502T090000Z
SEQUENCE:0
TRANSP:OPAQUE
DTEND:20260502T110000Z
URL:https://www.bamberg.info/veranstaltungen/themenfuehrung_bamberg_als_fil
 -669023-12595325/
LOCATION:- Veranstaltung ohne festen Ort - Bamberg
SUMMARY:Themenführung: Bamberg als Filmkulisse
DESCRIPTION:Hollywood in Franken
DTSTAMP:20260426T031421Z
END:VEVENT
END:VCALENDAR