BEGIN:VCALENDAR
VERSION:2.0
PRODID:https://www.bamberg.info/
X-PUBLISHED-TTL:P1D
BEGIN:VEVENT
UID:69e6cb48b4144
DTSTART:20261220T140000Z
SEQUENCE:0
TRANSP:OPAQUE
DTEND:20261220T160000Z
URL:https://www.bamberg.info/veranstaltungen/themenfuehrung_bamberger_adven
 -454081-12567331/
LOCATION:- Veranstaltung ohne festen Ort - Bamberg
SUMMARY:Themenführung: Bamberger Advents- und Weihnachtsbräuche - 15 Uhr
DTSTAMP:20260421T025640Z
END:VEVENT
END:VCALENDAR