BEGIN:VCALENDAR
VERSION:2.0
PRODID:https://www.bamberg.info/
X-PUBLISHED-TTL:P1D
BEGIN:VEVENT
UID:69eac5a8869a1
DTSTART:20260430T150000Z
SEQUENCE:0
TRANSP:OPAQUE
DTEND:20260430T163000Z
URL:https://www.bamberg.info/veranstaltungen/themenfuehrung_bier_das_bamber
 -672065-12597005/
LOCATION:- Veranstaltung ohne festen Ort - Bamberg
SUMMARY:Themenführung: \"Bier\, das Bamberger Herzblut\" - 17 Uhr
DTSTAMP:20260424T032144Z
END:VEVENT
END:VCALENDAR