BEGIN:VCALENDAR
VERSION:2.0
PRODID:https://www.bamberg.info/
X-PUBLISHED-TTL:P1D
BEGIN:VEVENT
UID:69ed669a1ebcd
DTSTART:20260502T080000Z
SEQUENCE:0
TRANSP:OPAQUE
DTEND:20260502T093000Z
URL:https://www.bamberg.info/veranstaltungen/themenfuehrung_bier_das_bamber
 -672075-12597169/
LOCATION:- Veranstaltung ohne festen Ort - Bamberg
SUMMARY:Themenführung: \"Bier\, das Bamberger Herzblut\" - 10 Uhr
DTSTAMP:20260426T031258Z
END:VEVENT
END:VCALENDAR