BEGIN:VCALENDAR
VERSION:2.0
PRODID:https://www.bamberg.info/
X-PUBLISHED-TTL:P1D
BEGIN:VEVENT
UID:69ed66f3cf813
DTSTART:20260502T113000Z
SEQUENCE:0
TRANSP:OPAQUE
DTEND:20260502T130000Z
URL:https://www.bamberg.info/veranstaltungen/themenfuehrung_bierkultur_und-
 389395-12602005/
LOCATION:- Veranstaltung ohne festen Ort - Bamberg
SUMMARY:Themenführung: Bierkultur und Felsenkeller - „Auf den Kellern“
DTSTAMP:20260426T031427Z
END:VEVENT
END:VCALENDAR