BEGIN:VCALENDAR
VERSION:2.0
PRODID:https://www.bamberg.info/
X-PUBLISHED-TTL:P1D
BEGIN:VEVENT
UID:69e5898b2bd7f
DTSTART:20260426T123000Z
SEQUENCE:0
TRANSP:OPAQUE
DTEND:20260426T133000Z
URL:https://www.bamberg.info/veranstaltungen/themenfuehrung_die_altenburgfu
 -389141-12596941/
LOCATION:Altenburg - Bamberg
SUMMARY:Themenführung: Die Altenburgführung \"Eine feste Burg“
DTSTAMP:20260420T040355Z
END:VEVENT
END:VCALENDAR